BEGIN:VCALENDAR
VERSION:2.0
PRODID:-//Minnesota Perinatal Quality Collaborative - ECPv6.15.20//NONSGML v1.0//EN
CALSCALE:GREGORIAN
METHOD:PUBLISH
X-WR-CALNAME:Minnesota Perinatal Quality Collaborative
X-ORIGINAL-URL:https://mnpqc.org
X-WR-CALDESC:Events for Minnesota Perinatal Quality Collaborative
REFRESH-INTERVAL;VALUE=DURATION:PT1H
X-Robots-Tag:noindex
X-PUBLISHED-TTL:PT1H
BEGIN:VTIMEZONE
TZID:America/New_York
BEGIN:DAYLIGHT
TZOFFSETFROM:-0500
TZOFFSETTO:-0400
TZNAME:EDT
DTSTART:20250309T070000
END:DAYLIGHT
BEGIN:STANDARD
TZOFFSETFROM:-0400
TZOFFSETTO:-0500
TZNAME:EST
DTSTART:20251102T060000
END:STANDARD
BEGIN:DAYLIGHT
TZOFFSETFROM:-0500
TZOFFSETTO:-0400
TZNAME:EDT
DTSTART:20260308T070000
END:DAYLIGHT
BEGIN:STANDARD
TZOFFSETFROM:-0400
TZOFFSETTO:-0500
TZNAME:EST
DTSTART:20261101T060000
END:STANDARD
BEGIN:DAYLIGHT
TZOFFSETFROM:-0500
TZOFFSETTO:-0400
TZNAME:EDT
DTSTART:20270314T070000
END:DAYLIGHT
BEGIN:STANDARD
TZOFFSETFROM:-0400
TZOFFSETTO:-0500
TZNAME:EST
DTSTART:20271107T060000
END:STANDARD
END:VTIMEZONE
BEGIN:VEVENT
DTSTART;TZID=America/New_York:20260421T113000
DTEND;TZID=America/New_York:20260421T133000
DTSTAMP:20260421T095329
CREATED:20260220T012421Z
LAST-MODIFIED:20260220T012421Z
UID:10000823-1776771000-1776778200@mnpqc.org
SUMMARY:12th Annual Changemaker Event
DESCRIPTION:The Changemakers Event\, is our largest fundraiser of the year and one of the most sought-after spring events in Central Iowa. It is an uplifting and inspi­ra­tional oppor­tunity to celebrate babies saved while raising awareness and funds to support the mission of Healthy Birth Day\, Inc.\, the nonprofit that created the Count the Kicks still­birth prevention program. \nEvery Spring more than 1\,000 Change­makers from across the country gather to celebrate the impact of our mission while helping to propel forward our work to improve birth outcomes for tens of thousands of moms and babies around the county. This event\, and the support of Changemakers like you\, accelerates progress on stillbirth prevention. There is no doubt that your generosity is WORKING.
URL:https://mnpqc.org/event/12th-annual-changemaker-event/
CATEGORIES:National Events
ATTACH;FMTTYPE=image/jpeg:https://mnpqc.org/wp-content/uploads/photo-1649949474530-51fd3d999837-scaled.jpg
END:VEVENT
BEGIN:VEVENT
DTSTART;TZID=America/New_York:20260421T120000
DTEND;TZID=America/New_York:20260421T130000
DTSTAMP:20260421T095329
CREATED:20251102T201943Z
LAST-MODIFIED:20260202T184159Z
UID:10000761-1776772800-1776776400@mnpqc.org
SUMMARY:Essentia Health Upper Midwest Rural Interdisciplinary SUD/OUD ECHO
DESCRIPTION:Objective\nThe Upper Midwest Rural Interdisciplinary Substance Use Disorder / Opioid Use Disorder ECHO (UMRISE) Project purpose is to improve interdisciplinary teaming and capacity to treat individuals with Opioid Use Disorder (OUD) and other Substance Use Disorders (SUD). The goal is to increase health care workforce capacity (knowledge\, self-efficacy) and intent to offer OUD and other SUD treatment through UMRISE. \n\nTopics Covered\n\n\nAddiction Fundamentals\nMental Health\nHarm Reduction\nConsiderations for special patient populations: Indigenous\, pregnant women\, geriatric\, unhoused\, justice-involved\, etc.\n\nAccreditation Information\nIn support of improving patient care\, Essentia Health is jointly accredited by the Accreditation Council for Continuing Medical Education (ACCME)\, the Accreditation Council for Pharmacy Education (ACPE)\, and the American Nurses Credentialing Center (ANCC)\, to provide continuing education for the healthcare team. \nEssentia Health designates this live activity for a maximum of 1.0 ANCC contact hours. \nEssentia Health is an approved Minnesota Board of Social Work Continuing Education Provider. CE Provider Number: CEP-883. \nEssentia Health is a North Dakota Board of Social Work Examiners approved Continuing Education Provider. CE Provider Number: 50-37980. \nMinnesota Certification Board Approved Education for Peer Recovery Specialists. \nThis program has been granted prior approval by the American Association of Medical Assistants (AAMA) for 1.0 Clinical/General continuing education unit(s). Granting approval in no way constitutes endorsement by the AAMA of the program content or the program provider. \nCertification & Credits\nThis program offers up to 1.0 contact hours of continuing education per session. Certificates of attendance will be provided. Participants are responsible for determining whether this activity meets the requirements for acceptable continuing education. \nFunder Statement\nThis project is possible\, fully or in part\, as a result of grant funding recommended by the Opioid Epidemic Response Advisory Council (OERAC) and the Minnesota Department of Human Services. The views expressed in this publication do not necessarily reflect the official policies the Minnesota Department of Human services; nor mention of trade names\, commercial practices\, or organizations imply endorsement by the state of Minnesota. \nContact Information\nEssentia Health Accredited Continuing Education Office AccreditedCE@essentiahealth.org 218.786.4764 \n\n\nContact Email\naccreditedce@essentiahealth.org
URL:https://mnpqc.org/event/essentia-health-upper-midwest-rural-interdisciplinary-sud-oud-echo-6/
CATEGORIES:Continuing Education,State Events
ATTACH;FMTTYPE=image/jpeg:https://mnpqc.org/wp-content/uploads/2024/12/getty-images-vcWI9E3xlTQ-unsplash.jpg
END:VEVENT
END:VCALENDAR