BEGIN:VCALENDAR
VERSION:2.0
PRODID:-//Minnesota Perinatal Quality Collaborative - ECPv6.15.20//NONSGML v1.0//EN
CALSCALE:GREGORIAN
METHOD:PUBLISH
X-ORIGINAL-URL:https://mnpqc.org
X-WR-CALDESC:Events for Minnesota Perinatal Quality Collaborative
REFRESH-INTERVAL;VALUE=DURATION:PT1H
X-Robots-Tag:noindex
X-PUBLISHED-TTL:PT1H
BEGIN:VTIMEZONE
TZID:America/New_York
BEGIN:DAYLIGHT
TZOFFSETFROM:-0500
TZOFFSETTO:-0400
TZNAME:EDT
DTSTART:20250309T070000
END:DAYLIGHT
BEGIN:STANDARD
TZOFFSETFROM:-0400
TZOFFSETTO:-0500
TZNAME:EST
DTSTART:20251102T060000
END:STANDARD
BEGIN:DAYLIGHT
TZOFFSETFROM:-0500
TZOFFSETTO:-0400
TZNAME:EDT
DTSTART:20260308T070000
END:DAYLIGHT
BEGIN:STANDARD
TZOFFSETFROM:-0400
TZOFFSETTO:-0500
TZNAME:EST
DTSTART:20261101T060000
END:STANDARD
BEGIN:DAYLIGHT
TZOFFSETFROM:-0500
TZOFFSETTO:-0400
TZNAME:EDT
DTSTART:20270314T070000
END:DAYLIGHT
BEGIN:STANDARD
TZOFFSETFROM:-0400
TZOFFSETTO:-0500
TZNAME:EST
DTSTART:20271107T060000
END:STANDARD
END:VTIMEZONE
BEGIN:VEVENT
DTSTART;VALUE=DATE:20260625
DTEND;VALUE=DATE:20260629
DTSTAMP:20260421T150341
CREATED:20260407T175703Z
LAST-MODIFIED:20260407T180430Z
UID:10000856-1782345600-1782691199@mnpqc.org
SUMMARY:Postpartum Support International (PSI) 39th Annual Conference
DESCRIPTION:Pospartum Support International’s (PSI) Annual Conference brings together over 1\,200 perinatal advocates\, healthcare professionals\, and mental health professionals from around the world. It welcomes anyone interested in expanding their knowledge and skills in supporting parents’ mental health during the perinatal period. \nConference Details: \n\nLocation: Westin Bonaventure Hotel in Los Angeles\, CA\nPre-Conference Training Dates: June 24-25\, 2026\nMain Conference Dates: June 25-28\, 2026
URL:https://mnpqc.org/event/postpartum-support-international-psi-39th-annual-conference/
CATEGORIES:National Events
ATTACH;FMTTYPE=image/jpeg:https://mnpqc.org/wp-content/uploads/photo-1596213340296-240f81dde687-scaled.jpg
END:VEVENT
END:VCALENDAR