BEGIN:VCALENDAR
VERSION:2.0
PRODID:-//Minnesota Perinatal Quality Collaborative - ECPv6.15.20//NONSGML v1.0//EN
CALSCALE:GREGORIAN
METHOD:PUBLISH
X-WR-CALNAME:Minnesota Perinatal Quality Collaborative
X-ORIGINAL-URL:https://mnpqc.org
X-WR-CALDESC:Events for Minnesota Perinatal Quality Collaborative
REFRESH-INTERVAL;VALUE=DURATION:PT1H
X-Robots-Tag:noindex
X-PUBLISHED-TTL:PT1H
BEGIN:VTIMEZONE
TZID:America/New_York
BEGIN:DAYLIGHT
TZOFFSETFROM:-0500
TZOFFSETTO:-0400
TZNAME:EDT
DTSTART:20250309T070000
END:DAYLIGHT
BEGIN:STANDARD
TZOFFSETFROM:-0400
TZOFFSETTO:-0500
TZNAME:EST
DTSTART:20251102T060000
END:STANDARD
BEGIN:DAYLIGHT
TZOFFSETFROM:-0500
TZOFFSETTO:-0400
TZNAME:EDT
DTSTART:20260308T070000
END:DAYLIGHT
BEGIN:STANDARD
TZOFFSETFROM:-0400
TZOFFSETTO:-0500
TZNAME:EST
DTSTART:20261101T060000
END:STANDARD
BEGIN:DAYLIGHT
TZOFFSETFROM:-0500
TZOFFSETTO:-0400
TZNAME:EDT
DTSTART:20270314T070000
END:DAYLIGHT
BEGIN:STANDARD
TZOFFSETFROM:-0400
TZOFFSETTO:-0500
TZNAME:EST
DTSTART:20271107T060000
END:STANDARD
END:VTIMEZONE
BEGIN:VEVENT
DTSTART;TZID=America/New_York:20260422T120000
DTEND;TZID=America/New_York:20260422T130000
DTSTAMP:20260422T055900
CREATED:20250627T190737Z
LAST-MODIFIED:20250627T190737Z
UID:10000693-1776859200-1776862800@mnpqc.org
SUMMARY:OBH COL Virtual Action Period Calls (APC)
DESCRIPTION:Each month\, hospital teams across Minnesota participating in MNPQC’s Obstetrical Hemorrhage Community of Learning (COL) meet virtually to share progress\, address challenges\, and collaborate with hospital teams across the state and content experts.
URL:https://mnpqc.org/event/obh-col-virtual-action-period-calls-apc-5/
CATEGORIES:MNPQC Events,Continuing Education
ATTACH;FMTTYPE=image/jpeg:https://mnpqc.org/wp-content/uploads/2024/12/nathan-dumlao-EytWx3BOrwI-unsplash-1-scaled.jpg
END:VEVENT
BEGIN:VEVENT
DTSTART;TZID=America/New_York:20260422T121500
DTEND;TZID=America/New_York:20260422T131500
DTSTAMP:20260422T055900
CREATED:20260211T183803Z
LAST-MODIFIED:20260414T181246Z
UID:10000817-1776860100-1776863700@mnpqc.org
SUMMARY:Perinatal Substance Use ECHO: Lessons from Culturally-Attuned In-Home Treatment for Parents
DESCRIPTION:The Perinatal Substance Use ECHO program provides education and training to providers to best support pregnant and parenting people with substance use during their pregnancy\, birth and postpartum. This includes educational sessions\, case reviews and discussions of best practice templates and protocols specifically focused on inpatient and outpatient perinatal substance use and substance use disorders. It is our goal to develop standardized treatment approaches for perinatal substance use care that will allow for statewide standardization of best practice for all birthing patients affected by substance use and substance use disorders.
URL:https://mnpqc.org/event/perinatal-substance-use-echo/
CATEGORIES:State Events
ATTACH;FMTTYPE=image/jpeg:https://mnpqc.org/wp-content/uploads/photo-1665686304312-16e3a16be0ed.jpg
END:VEVENT
END:VCALENDAR